BEGIN:VCALENDAR
VERSION:2.0
PRODID:TU Chemnitz
METHOD:PUBLISH
X-WR-CALNAME:Veranstaltungen der TU Chemnitz
X-WR-TIMEZONE:Europe/Berlin
BEGIN:VEVENT
CLASS:PUBLIC
DTSTART;TZID="Europe/Berlin":20180529T090000
DTEND;TZID="Europe/Berlin":20180529T160000
LOCATION:Reichenhainer Str. 90\, Chemnitz (Zentr. Hörsaal- und Seminargebäude)
SUMMARY:Fachvorträge zu Leiterplattendesign und Bauteilauswahl von der Firma Würth Elektronik (Fakultät für Elektrotechnik und Informationstechnik\, Professur für Mess- und Sensortechnik)
DESCRIPTION:Vortragsreihe zu Leiterplattendesign und Bauteilauswahl\nTitel der Vorträge:\nEMV-Designtipps\,  Kontakte & Kontaktoberflächen\, SMD-Ferrit - kleine Helfer\, große Wirkung\, HF-Verhalten von Stiftleisten\, Grundlagen zu Kernmaterialien und Filterschaltungen\nAndreas Temmler\, Thomas Hess\, Würth Elektronik\nFrank Wendler\, frank.wendler@etit.tu-chemnitz.de
ORGANIZER:MAILTO:franziska.keil@etit.tu-chemnitz.de
UID:19761@www.tu-chemnitz.de
CREATED:20180528T110100Z
DTSTAMP:20210802T190545Z
END:VEVENT
END:VCALENDAR
