BEGIN:VCALENDAR
VERSION:2.0
PRODID:TU Chemnitz
METHOD:PUBLISH
X-WR-CALNAME:Veranstaltungen der TU Chemnitz
X-WR-TIMEZONE:Europe/Berlin
BEGIN:VEVENT
CLASS:PUBLIC
DTSTART;TZID="Europe/Berlin":20020109T170000
DTEND;TZID="Europe/Berlin":20020109T190000
LOCATION:Reichenhainer Str. 70\, Chemnitz (Zentr. Hörsaal- und Seminargebäude)
SUMMARY:Roboterfußball: Angewandte Mechatronik (Fakultät für Elektrotechnik und Informationstechnik\, Professur Robotersysteme)
DESCRIPTION:Prof.Dr.Dr.h.c.mult. Peter Kopacek TU Wien Institut für Handhabungsgeräte und Robotertechnik
ORGANIZER:MAILTO:frsa@hrz.tu-chemnitz.de
UID:1975@www.tu-chemnitz.de
CREATED:20011211T142600Z
DTSTAMP:20210802T202614Z
END:VEVENT
END:VCALENDAR
