BEGIN:VCALENDAR
VERSION:2.0
PRODID:TU Chemnitz
METHOD:PUBLISH
X-WR-CALNAME:Veranstaltungen der TU Chemnitz
X-WR-TIMEZONE:Europe/Berlin
BEGIN:VEVENT
CLASS:PUBLIC
DTSTART;TZID="Europe/Berlin":20181129T180000
DTEND;TZID="Europe/Berlin":20181201T140000
LOCATION:Str. der Nationen 62\, Chemnitz (Böttcher-Bau)
SUMMARY:Forschungskolloquium „Innovation & Wertschöpfung“ (I+VC'2018) (TU Chemnitz\, Professur Wirtschaftsinformatik – Geschäftsprozess- und Informationsmanagement)
DESCRIPTION:Das Forschungskolloquium stellt eine Plattform für junge Wissenschaftler dar\, die ein Forschungsinteresse im Bereich Innovation und Wertschöpfung teilen und ihre Forschung innerhalb einer Gemeinschaft von Gleichgesinnten weiterentwickeln wollen.\nchristoph.kollwitz@wirtschaft.tu-chemnitz.de
ORGANIZER:MAILTO:christoph.kollwitz@wirtschaft.tu-chemnitz.de
UID:19749@www.tu-chemnitz.de
CREATED:20180524T115200Z
DTSTAMP:20210802T190431Z
END:VEVENT
END:VCALENDAR
