BEGIN:VCALENDAR
VERSION:2.0
PRODID:TU Chemnitz
METHOD:PUBLISH
X-WR-CALNAME:Veranstaltungen der TU Chemnitz
X-WR-TIMEZONE:Europe/Berlin
BEGIN:VEVENT
CLASS:PUBLIC
DTSTART;TZID="Europe/Berlin":20180606T190000
DTEND;TZID="Europe/Berlin":20180606T203000
LOCATION:Reichenhainer Str. 90\, Chemnitz (Zentr. Hörsaal- und Seminargebäude)
SUMMARY:Chemnitzer Altertumswissenschaftliche Vorträge III (TU Chemnitz\, Juniorprofessur Antike und Europa)
DESCRIPTION:Althistorie im Nationalsozialismus – Spielräume und Anpassungsdruck\nJan Lukas Horneff (Dresden)\nAlthistorie im Nationalsozialismus – Spielräume und Anpassungsdruck
ORGANIZER:MAILTO:christopher.degelmann@phil.tu-chemnitz.de
UID:19694@www.tu-chemnitz.de
CREATED:20180504T102900Z
DTSTAMP:20210802T190645Z
END:VEVENT
END:VCALENDAR
