BEGIN:VCALENDAR
VERSION:2.0
PRODID:TU Chemnitz
METHOD:PUBLISH
X-WR-CALNAME:Veranstaltungen der TU Chemnitz
X-WR-TIMEZONE:Europe/Berlin
BEGIN:VEVENT
CLASS:PUBLIC
DTSTART;TZID="Europe/Berlin":20180619T170000
DTEND;TZID="Europe/Berlin":20180619T183000
LOCATION:Str. der Nationen 62\, Chemnitz (Altes Heizhaus)
SUMMARY:Neue Kunst in alten Hallen: Die Neue Sächsische Galerie in der Alten Aktienspinnerei. (Universitätsbibliothek\, Universitätsarchiv)
DESCRIPTION:Im Jahr 2000 zog die Neue Sächsische Galerie in die Alte Aktienspinnerei und war dort für einige Jahre Mieter. Aus den herrlich sanierten Räumen wollte man nie wieder raus. Ralf Siegfried Ketscher wird diese spannende Zeit näher betrachten.\nDr. Ralf Siegfried Ketscher (Historiker\, Chemnitz)\nEintritt frei\, keine Anmeldung erforderlich
ORGANIZER:MAILTO:stephan.luther@bibliothek.tu-chemnitz.de
UID:19687@www.tu-chemnitz.de
CREATED:20180503T174500Z
DTSTAMP:20210802T190656Z
END:VEVENT
END:VCALENDAR
