BEGIN:VCALENDAR
VERSION:2.0
PRODID:TU Chemnitz
METHOD:PUBLISH
X-WR-CALNAME:Veranstaltungen der TU Chemnitz
X-WR-TIMEZONE:Europe/Berlin
BEGIN:VEVENT
CLASS:PUBLIC
DTSTART;TZID="Europe/Berlin":20180517T190000
DTEND;TZID="Europe/Berlin":20180517T210000
LOCATION:Chemnitz\, Veranstaltungssaal im Tietz\, 3. OG
SUMMARY:Kommentierte Lesung zu Bertolt Brecht (Volkshochschule Chemnitz)
DESCRIPTION:Streifzug durch die schönsten und wirkungsmächtigsten Gedichte und Einführung in die wichtigsten thematischen und ästhetischen Stationen des Augsburger Lyrikers Bertolt Brecht. Eintritt: 8 Euro.\nProf. Dr. Bernadette Malinowski (Literaturwissenschaftlerin der TU Chemnitz) und Dr. Christoph Grube (Germanist und Sprecher)\nAnmeldung ratsam: per Telefon (0371/ 488 4343) oder online www.vhs-chemnitz.de
ORGANIZER:MAILTO:mario.steinebach@verwaltung.tu-chemnitz.de
UID:19669@www.tu-chemnitz.de
CREATED:20180501T122200Z
DTSTAMP:20210802T190550Z
END:VEVENT
END:VCALENDAR
