BEGIN:VCALENDAR
VERSION:2.0
PRODID:TU Chemnitz
METHOD:PUBLISH
X-WR-CALNAME:Veranstaltungen der TU Chemnitz
X-WR-TIMEZONE:Europe/Berlin
BEGIN:VEVENT
CLASS:PUBLIC
DTSTART;TZID="Europe/Berlin":20180509T131500
DTEND;TZID="Europe/Berlin":20180509T150000
LOCATION:Reichenhainer Str. 90\, Chemnitz (Zentr. Hörsaal- und Seminargebäude)
SUMMARY:Warmup OER - Recherche\, Nutzung und Erstellung freier Lerninhalte (TU Chemnitz\, Universitätsrechenzentrum)
DESCRIPTION:Die Veranstaltung gibt einen ersten praktischen Einblick in das Thema Open Educational Resources (OER). Hintergründe\, Finden\, Verwenden sowie die Erzeugung freier Lerninhalte und unterschiedliche Lizensierungsmöglichkeiten sind Kerninhalte.\nAline Bergert\, TU Dresden\nhttps://bildungsportal.sachsen.de/opal/auth/RepositoryEntry/17198907394/CourseNode/97548211157157?21
ORGANIZER:MAILTO:yvonne.seidel@hrz.tu-chemnitz.de
UID:19665@www.tu-chemnitz.de
CREATED:20180427T134300Z
DTSTAMP:20210802T190545Z
END:VEVENT
END:VCALENDAR
