BEGIN:VCALENDAR
VERSION:2.0
PRODID:TU Chemnitz
METHOD:PUBLISH
X-WR-CALNAME:Veranstaltungen der TU Chemnitz
X-WR-TIMEZONE:Europe/Berlin
BEGIN:VEVENT
CLASS:PUBLIC
DTSTART;TZID="Europe/Berlin":20180528T160000
DTEND;TZID="Europe/Berlin":20180528T170000
LOCATION:
SUMMARY:Von der Geschäftsidee zum digitalen Geschäftsmodell (TU Chemnitz)
DESCRIPTION:Onlineseminar des Mittelstand 4.0-Kompetenzzentrums Chemnitz\nMittelstand 4.0-Kompetenzzentrum Chemnitz\nDan Gläser Tel.: +49 (0) 0371/ 27836-160 E-Mail: dan.glaeser@betrieb-machen.de
ORGANIZER:MAILTO:madeleine.dietrich@mb.tu-chemnitz.de
UID:19652@www.tu-chemnitz.de
CREATED:20180419T124400Z
DTSTAMP:20210802T190552Z
END:VEVENT
END:VCALENDAR
