BEGIN:VCALENDAR
VERSION:2.0
PRODID:TU Chemnitz
METHOD:PUBLISH
X-WR-CALNAME:Veranstaltungen der TU Chemnitz
X-WR-TIMEZONE:Europe/Berlin
BEGIN:VEVENT
CLASS:PUBLIC
DTSTART;TZID="Europe/Berlin":20020118T160000
DTEND;TZID="Europe/Berlin":20020118T173000
LOCATION:Reichenhainer Str. 70\, Chemnitz (Zentr. Hörsaal- und Seminargebäude)
SUMMARY:Atome und Moleküle direkt abbilden - Neuartige Mikroskope und was sie alles können (Fakultät für Naturwissenschaften\, Institut für Physik)
DESCRIPTION:Vortragsreihe Physik - wie Forschung Spaß macht\n\n\nProf. Dr. M. Hietschold\nProf. Dr. M. Hietschold\, Tel. 5313203
ORGANIZER:MAILTO:flei@hrz.tu-chemnitz.de
UID:1965@www.tu-chemnitz.de
CREATED:20011207T145200Z
DTSTAMP:20210802T202616Z
END:VEVENT
END:VCALENDAR
