BEGIN:VCALENDAR
VERSION:2.0
PRODID:TU Chemnitz
METHOD:PUBLISH
X-WR-CALNAME:Veranstaltungen der TU Chemnitz
X-WR-TIMEZONE:Europe/Berlin
BEGIN:VEVENT
CLASS:PUBLIC
DTSTART;TZID="Europe/Berlin":20180508T170000
DTEND;TZID="Europe/Berlin":20180508T183000
LOCATION:Str. der Nationen 62\, Chemnitz (Altes Heizhaus)
SUMMARY:Jüdische Unternehmer in der Alten Aktienspinnerei. Eine Spurensuche (TU Chemnitz\, Universitätsarchiv)
DESCRIPTION:Der Referent geht der Geschichte von ausgewählten jüdischen Unternehmen\, die nach der Verlagerung der Aktienspinnerei nach Altchemnitz\, als Mieter im Gebäude am Schillerplatz ihren Sitz hatten\, nach.\nDr. Jürgen Nitsche (Historiker Mittweida)\nkeine Anmeldung erforderlich\, Eintritt frei
ORGANIZER:MAILTO:stephan.luther@bibliothek.tu-chemnitz.de
UID:19645@www.tu-chemnitz.de
CREATED:20180418T143000Z
DTSTAMP:20210802T190553Z
END:VEVENT
END:VCALENDAR
