BEGIN:VCALENDAR
VERSION:2.0
PRODID:TU Chemnitz
METHOD:PUBLISH
X-WR-CALNAME:Veranstaltungen der TU Chemnitz
X-WR-TIMEZONE:Europe/Berlin
BEGIN:VEVENT
CLASS:PUBLIC
DTSTART;TZID="Europe/Berlin":20180814T160000
DTEND;TZID="Europe/Berlin":20180814T173000
LOCATION:Reichenhainer Str. 70\, Chemnitz (Weinhold-Bau)
SUMMARY:Kunststofftechnisches Kolloquium (TU Chemnitz\, Professur Kunststoffe)
DESCRIPTION:Herr Bayer hält einen Vortag mit dem Thema: Schäumen von Phenolharzen im Spritzgießverfahren\nM.Sc. Martin Bayer\, Robert Bosch GmbH\, Renningen\nÖffentlicher Vortrag mit kostenfreier Teilnahme im Rahmen des kunststofftechnischen Kolloquiums. 
ORGANIZER:MAILTO:marios.constantinou@mb.tu-chemnitz.de
UID:19644@www.tu-chemnitz.de
CREATED:20180418T132800Z
DTSTAMP:20210802T190738Z
END:VEVENT
END:VCALENDAR
