BEGIN:VCALENDAR
VERSION:2.0
PRODID:TU Chemnitz
METHOD:PUBLISH
X-WR-CALNAME:Veranstaltungen der TU Chemnitz
X-WR-TIMEZONE:Europe/Berlin
BEGIN:VEVENT
CLASS:PUBLIC
DTSTART;TZID="Europe/Berlin":20180724T160000
DTEND;TZID="Europe/Berlin":20180724T173000
LOCATION:Reichenhainer Str. 90\, Chemnitz (Zentr. Hörsaal- und Seminargebäude)
SUMMARY:Kunststofftechnisches Kolloquium (TU Chemnitz\, Professur Kunststoffe)
DESCRIPTION:Vortragsthema: Mehrwert durch stoffliche Verwertung beim Up-Cycling von Kunststofffolien - Identifikation und Analyse der kritischen Prozessschritte in Kunststoffrecycling-Anlagen\, Verfahrenstechnische Auslegung und Definition der Schlüsselkomponenten\nDr. Markus Brunkau\, Zeppelin Systems GmbH\, Friedrichshafen\nÖffentlicher Vortrag mit kostenfreier Teilnahme im Rahmen des kunststofftechnischen Kolloquiums. 
ORGANIZER:MAILTO:marios.constantinou@mb.tu-chemnitz.de
UID:19643@www.tu-chemnitz.de
CREATED:20180418T132600Z
DTSTAMP:20210802T190758Z
END:VEVENT
END:VCALENDAR
