BEGIN:VCALENDAR
VERSION:2.0
PRODID:TU Chemnitz
METHOD:PUBLISH
X-WR-CALNAME:Veranstaltungen der TU Chemnitz
X-WR-TIMEZONE:Europe/Berlin
BEGIN:VEVENT
CLASS:PUBLIC
DTSTART;TZID="Europe/Berlin":20180504T140000
DTEND;TZID="Europe/Berlin":20180504T190000
LOCATION:Reichenhainer Str. 70\, Chemnitz (Weinhold-Bau)
SUMMARY:Lessons Learned: Abschlussveranstaltung des Projektes "Gender x Informatik. Förderung von Vernetzung und Dialog in Forschung" (Zentrum für Chancengleicheit in Wissenschaft und Forschung)
DESCRIPTION:Neben der Vorstellung der Projektergebnisse wird es zwei spannende Vorträge aus der Informatikforschung geben. Diese Abschlussveranstaltung ist offen und kostenfrei für alle Interessierten.\nProf. Dr. Erika Ábrahám (RWTH Aachen) \, Prof. Dr.-Ing. Corinna Bath (TU Braunschweig)\nEliza Roth\, 33654\, eliza.roth@hrz.tu-chemnitz.de
ORGANIZER:MAILTO:konstanze.wittersberg@s2013.tu-chemnitz.de
UID:19641@www.tu-chemnitz.de
CREATED:20180417T152100Z
DTSTAMP:20210802T190551Z
END:VEVENT
END:VCALENDAR
