BEGIN:VCALENDAR
VERSION:2.0
PRODID:TU Chemnitz
METHOD:PUBLISH
X-WR-CALNAME:Veranstaltungen der TU Chemnitz
X-WR-TIMEZONE:Europe/Berlin
BEGIN:VEVENT
CLASS:PUBLIC
DTSTART;TZID="Europe/Berlin":20180426T180000
DTEND;TZID="Europe/Berlin":20180426T200000
LOCATION:Botanischer Garten\, Leipziger Straße 147
SUMMARY:Tauschparty (TU Chemnitz\, Textile Technologien)
DESCRIPTION:Tauscht\, was schon zu lange im Schrank hängt und auf einen neuen Besitzer wartet! Es können saubere\, tragbare Bekleidung\, Bücher\, CD’s\, Spiele\, Samen und Pflanzen getauscht werden. Auch Futterspenden für den botanischen Garten werden entgegengenommen.\nanna.lanfermann@mb.tu-chemnitz.de
ORGANIZER:MAILTO:anna.lanfermann@mb.tu-chemnitz.de
UID:19639@www.tu-chemnitz.de
CREATED:20180416T154200Z
DTSTAMP:20210802T190445Z
END:VEVENT
END:VCALENDAR
