BEGIN:VCALENDAR
VERSION:2.0
PRODID:TU Chemnitz
METHOD:PUBLISH
X-WR-CALNAME:Veranstaltungen der TU Chemnitz
X-WR-TIMEZONE:Europe/Berlin
BEGIN:VEVENT
CLASS:PUBLIC
DTSTART;TZID="Europe/Berlin":20180523T171500
DTEND;TZID="Europe/Berlin":20180523T184500
LOCATION:Reichenhainer Str. 70\, Chemnitz (Rühlmann-Bau)
SUMMARY:Lern|RAUM Workshop | "Beim nächsten Mal wird alles anders": Prüfungsvorbereitung bei Wederholungsklausuren (TU Chemnitz\, TU4U)
DESCRIPTION:Ziel: Prüfungs-anforderungen identifizieren und gezielt lernen\nAnmeldung erforderlich unter: www.tu-chemnitz.de/lernraum\nFranziska Lorz\nElisabeth Eckelmann\, 0371-53136252\, elisabeth.eckelmann@hrz.tu-chemnitz.de
ORGANIZER:MAILTO:elisabeth.eckelmann@hrz.tu-chemnitz.de
UID:19632@www.tu-chemnitz.de
CREATED:20180411T145100Z
DTSTAMP:20210802T190551Z
END:VEVENT
END:VCALENDAR
