BEGIN:VCALENDAR
VERSION:2.0
PRODID:TU Chemnitz
METHOD:PUBLISH
X-WR-CALNAME:Veranstaltungen der TU Chemnitz
X-WR-TIMEZONE:Europe/Berlin
BEGIN:VEVENT
CLASS:PUBLIC
DTSTART;TZID="Europe/Berlin":20180629T091500
DTEND;TZID="Europe/Berlin":20180629T123000
LOCATION:Str. der Nationen 62\, Chemnitz (Böttcher-Bau)
SUMMARY:Lern|RAUM Workshop | Gesprächsführung (TU Chemnitz\, TU4U)
DESCRIPTION:Ziel: Reflektieren und analysieren können\, wie ich und andere im Dialog handeln; wichtige Gespräche gezielt vorbereiten können \nAnmeldung erforderlich unter: www.tu-chemnitz.de/lernraum\nUlrike Bergmann und Stefanie Voigt\nElisabeth Eckelmann\, 0371-53136252\, elisabeth.eckelmann@hrz.tu-chemnitz.de
ORGANIZER:MAILTO:elisabeth.eckelmann@hrz.tu-chemnitz.de
UID:19629@www.tu-chemnitz.de
CREATED:20180411T144300Z
DTSTAMP:20210802T190651Z
END:VEVENT
END:VCALENDAR
