BEGIN:VCALENDAR
VERSION:2.0
PRODID:TU Chemnitz
METHOD:PUBLISH
X-WR-CALNAME:Veranstaltungen der TU Chemnitz
X-WR-TIMEZONE:Europe/Berlin
BEGIN:VEVENT
CLASS:PUBLIC
DTSTART;TZID="Europe/Berlin":20180606T140000
DTEND;TZID="Europe/Berlin":20180606T170000
LOCATION:Reichenhainer Str. 90\, Chemnitz (Zentr. Hörsaal- und Seminargebäude)
SUMMARY:Lern|RAUM Workshop | Working together in international teams (TU Chemnitz\, TU4U)
DESCRIPTION:Objective: Learning ways to work effectively in international teams and how to make the best of your differences\ntarget group: German and international students\nRegistration necessary: www.tu-chemnitz.de/lernraum\nDr. Anne-Coralie Bonnaire\nElisabeth Eckelmann\, 0371-53136252\, elisabeth.eckelmann@hrz.tu-chemnitz.de
ORGANIZER:MAILTO:elisabeth.eckelmann@hrz.tu-chemnitz.de
UID:19627@www.tu-chemnitz.de
CREATED:20180411T143100Z
DTSTAMP:20210802T190647Z
END:VEVENT
END:VCALENDAR
