BEGIN:VCALENDAR
VERSION:2.0
PRODID:TU Chemnitz
METHOD:PUBLISH
X-WR-CALNAME:Veranstaltungen der TU Chemnitz
X-WR-TIMEZONE:Europe/Berlin
BEGIN:VEVENT
CLASS:PUBLIC
DTSTART;TZID="Europe/Berlin":20180503T160000
DTEND;TZID="Europe/Berlin":20180503T173000
LOCATION:Reichenhainer Str. 70\, Chemnitz (Rühlmann-Bau)
SUMMARY:Chemnitzer Mathematisches Colloquium (Fakultät für Mathematik)
DESCRIPTION:Thema: An introduction to the Lasserre hierarchy in polynomial optimization\nProf. Dr. Didier Henrion\, LAAS-CNRS\, University of Toulouse; Czech Technical University in Prague\nDas Kolloquium wird von Herrn Prof. Dr. Christoph Helmberg geleitet.
ORGANIZER:MAILTO:margit.matt@mathematik.tu-chemnitz.de
UID:19609@www.tu-chemnitz.de
CREATED:20180410T091200Z
DTSTAMP:20210802T190554Z
END:VEVENT
END:VCALENDAR
