BEGIN:VCALENDAR
VERSION:2.0
PRODID:TU Chemnitz
METHOD:PUBLISH
X-WR-CALNAME:Veranstaltungen der TU Chemnitz
X-WR-TIMEZONE:Europe/Berlin
BEGIN:VEVENT
CLASS:PUBLIC
DTSTART;TZID="Europe/Berlin":20180410T134500
DTEND;TZID="Europe/Berlin":20180410T151500
LOCATION:Thüringer Weg 9\, Chemnitz
SUMMARY:Mediale und öffentliche Erwartungen über Politiker. Systemtheoretische Betrachtung (Philosophische Fakultät\, Politische Theorie und Ideengeschichte)
DESCRIPTION:Der Vortrag ist Teil des Forschungskolloquiums an der Professur. Er vermisst anhand von aktuellen Beispielen vielgestaltige Erwartungen an politisches Handeln und politische Verantwortungsträger.\nGordon Lemm (Berlin)\nAnja Liebe\, anja.liebe@phil.tu-chemnitz.de
ORGANIZER:MAILTO:ellen.thuemmler@phil.tu-chemnitz.de
UID:19591@www.tu-chemnitz.de
CREATED:20180405T104400Z
DTSTAMP:20210802T190445Z
END:VEVENT
END:VCALENDAR
