BEGIN:VCALENDAR
VERSION:2.0
PRODID:TU Chemnitz
METHOD:PUBLISH
X-WR-CALNAME:Veranstaltungen der TU Chemnitz
X-WR-TIMEZONE:Europe/Berlin
BEGIN:VEVENT
CLASS:PUBLIC
DTSTART;TZID="Europe/Berlin":20180411T160000
DTEND;TZID="Europe/Berlin":20180411T173000
LOCATION:Reichenhainer Str. 90\, Chemnitz (Zentr. Hörsaal- und Seminargebäude)
SUMMARY:Physikalisches Kolloquium (Fakultät für Naturwissenschaften\, Institut für Physik)
DESCRIPTION:Thema: "Atomistic modeling of quantum processes in nanoscale devices -\nDFTB+: Applications to device and excited state simulations of nanomaterials"\nProf. Dr. Thomas Frauenheim (Universität Bremen)\nProf. Dr. Dr. h. c. Dietrich R. T. Zahn (Tel: 0371 531 33036\, Email: zahn@physik.tu-chemnitz.de)
ORGANIZER:MAILTO:a.kurasch@physik.tu-chemnitz.de
UID:19590@www.tu-chemnitz.de
CREATED:20180404T101900Z
DTSTAMP:20210802T190445Z
END:VEVENT
END:VCALENDAR
