BEGIN:VCALENDAR
VERSION:2.0
PRODID:TU Chemnitz
METHOD:PUBLISH
X-WR-CALNAME:Veranstaltungen der TU Chemnitz
X-WR-TIMEZONE:Europe/Berlin
BEGIN:VEVENT
CLASS:PUBLIC
DTSTART;TZID="Europe/Berlin":20180411T171500
DTEND;TZID="Europe/Berlin":20180411T184500
LOCATION:Reichenhainer Str. 90\, Chemnitz (Zentr. Hörsaal- und Seminargebäude)
SUMMARY:Gleichheit\, Differenz\, Gender: Feministische Theorie und Politik nach 1945 (Zentrum für Chancengleicheit in Wissenschaft und Forschung)
DESCRIPTION:Ringvorlesung gender_fokussiert: Aktuelle Themen aus der Frauen- und Geschlechterforschung. Frau Dr. Jeannette Windheuser von der Bergischen Universität Wuppertal wird über die Feministische Theorie und Politik seit 1945 referieren.\nDr. Jeannette Windheuser\nKatrin Linde\, 0371 531-30106\, klinde@hrz.tu-chemnitz.de
ORGANIZER:MAILTO:konstanze.wittersberg@s2013.tu-chemnitz.de
UID:19574@www.tu-chemnitz.de
CREATED:20180328T091100Z
DTSTAMP:20210802T190444Z
END:VEVENT
END:VCALENDAR
