BEGIN:VCALENDAR
VERSION:2.0
PRODID:TU Chemnitz
METHOD:PUBLISH
X-WR-CALNAME:Veranstaltungen der TU Chemnitz
X-WR-TIMEZONE:Europe/Berlin
BEGIN:VEVENT
CLASS:PUBLIC
DTSTART;TZID="Europe/Berlin":20180416T120000
DTEND;TZID="Europe/Berlin":20180416T140000
LOCATION:Reichenhainer Str. 70\, eniPROD-Gebäude\, Haus M\, Raum M001
SUMMARY: Promotionsverteidigung (Fakultät für Maschinenbau\,  Professur Mikrofertigungstechnik)
DESCRIPTION:Thema: "Entwicklung und Realisierung einer Methode zur Bestimmung von Prozesseingangsgrößen für das elektrochemische Präzisionsabtragen"\nDipl.-Ing. Gunnar Meichsner\nFr. Simone Kias\, Telefon: +49 (0) 371/ 531-380 59\, E-Mail: mft@tu-chemnitz.de
ORGANIZER:MAILTO:matthias.hackert@mb.tu-chemnitz.de
UID:19572@www.tu-chemnitz.de
CREATED:20180326T193100Z
DTSTAMP:20210802T190440Z
END:VEVENT
END:VCALENDAR
