BEGIN:VCALENDAR
VERSION:2.0
PRODID:TU Chemnitz
METHOD:PUBLISH
X-WR-CALNAME:Veranstaltungen der TU Chemnitz
X-WR-TIMEZONE:Europe/Berlin
BEGIN:VEVENT
CLASS:PUBLIC
DTSTART;TZID="Europe/Berlin":20180412T160000
DTEND;TZID="Europe/Berlin":20180412T173000
LOCATION:Reichenhainer Str. 55\, Chemnitz (Mensa)
SUMMARY:Kindertreff mit KuKTuK (TU Chemnitz\, Familienservice)
DESCRIPTION:KuKTuK vereint den Kindertreff  für 3-8 Jährige (Gestalten von Windrädern und Suncatchern) mit einem gemütlichen Kontakte knüpfen bei Leckereien. Ebenso stellt sich die Familienpaten- und Pflegestelle des Caritasverbandes Chemnitz und Umgebung e.V. vor.\nIsabell Höfner\, 0371/ 531 30101\, familienservice@tu-chemnitz.de
ORGANIZER:MAILTO:hoei@hrz.tu-chemnitz.de
UID:19562@www.tu-chemnitz.de
CREATED:20180322T092100Z
DTSTAMP:20210802T190441Z
END:VEVENT
END:VCALENDAR
