BEGIN:VCALENDAR
VERSION:2.0
PRODID:TU Chemnitz
METHOD:PUBLISH
X-WR-CALNAME:Veranstaltungen der TU Chemnitz
X-WR-TIMEZONE:Europe/Berlin
BEGIN:VEVENT
CLASS:PUBLIC
DTSTART;TZID="Europe/Berlin":20180419T153000
DTEND;TZID="Europe/Berlin":20180419T170000
LOCATION:Reichenhainer Str. 90\, Chemnitz (Zentr. Hörsaal- und Seminargebäude)
SUMMARY:Auslandssemester und -praktikum weltweit (Internationales Universitätszentrum)
DESCRIPTION:Für ein Semester oder Praktikum in das inner- oder außereuropäische Ausland! Alle Fragen zu Partnerhochschulen\, Organisation und Vorbereitung sowie finanzieller Förderung beantwortet das IUZ auf der heutigen Veranstaltung. Vorbeischauen lohnt sich!\nNadja Hüller (IUZ)\, Oliver Sachs (IUZ)\nOliver Sachs\, 0371 531 37972\, oliver.sachs@iuz.tu-chemnitz.de
ORGANIZER:MAILTO:oliver.sachs@iuz.tu-chemnitz.de
UID:19525@www.tu-chemnitz.de
CREATED:20180307T113800Z
DTSTAMP:20210802T190445Z
END:VEVENT
END:VCALENDAR
