BEGIN:VCALENDAR
VERSION:2.0
PRODID:TU Chemnitz
METHOD:PUBLISH
X-WR-CALNAME:Veranstaltungen der TU Chemnitz
X-WR-TIMEZONE:Europe/Berlin
BEGIN:VEVENT
CLASS:PUBLIC
DTSTART;TZID="Europe/Berlin":20180410T171500
DTEND;TZID="Europe/Berlin":20180410T190000
LOCATION:Reichenhainer Str. 90\, Chemnitz (Zentr. Hörsaal- und Seminargebäude)
SUMMARY:Workshop “Communication styles” (TU Chemnitz\, Jun.-Prof. Interkulturelle Kompetenz)
DESCRIPTION:Gehen Sie davon aus\, dass „Ja“ immer „Ja“ bedeutet? In diesem Workshop besprechen wir u.a.\, was bei der Kommunikation mit Dozenten und Mitstudierenden zentral zu beachten wäre\, damit mögliche Missverständnisse erfolgreich vermieden werden können.\nDr. Anne-Coralie Bonnaire\nintegration-esf@tu-chemnitz.de
ORGANIZER:MAILTO:anne-coralie.bonnaire@phil.tu-chemnitz.de
UID:19523@www.tu-chemnitz.de
CREATED:20180307T095300Z
DTSTAMP:20210802T190445Z
END:VEVENT
END:VCALENDAR
