BEGIN:VCALENDAR
VERSION:2.0
PRODID:TU Chemnitz
METHOD:PUBLISH
X-WR-CALNAME:Veranstaltungen der TU Chemnitz
X-WR-TIMEZONE:Europe/Berlin
BEGIN:VEVENT
CLASS:PUBLIC
DTSTART;TZID="Europe/Berlin":20011210T190000
DTEND;TZID="Europe/Berlin":20011211T050000
LOCATION:Reichenhainer Str. 55\, Chemnitz (Mensa)
SUMMARY:Weihnachtsparty im TAC (Fachgruppe Psychologie & gaynial.net)
DESCRIPTION:>fg psychologie & gaynial.net< laden ein-WEIHNACHTSPARTY\n#19.00 uhr - diavortrag: leben und arbeiten in nepal\n#ab 20.30 uhr party: dj michelangelo (gigolo enterprises)\n#spät am abend: helga&elfriede - die powerOmas (travestie)
ORGANIZER:MAILTO:fox@hrz.tu-chemnitz.de
UID:1951@www.tu-chemnitz.de
CREATED:20011203T132100Z
DTSTAMP:20210802T202624Z
END:VEVENT
END:VCALENDAR
