BEGIN:VCALENDAR
VERSION:2.0
PRODID:TU Chemnitz
METHOD:PUBLISH
X-WR-CALNAME:Veranstaltungen der TU Chemnitz
X-WR-TIMEZONE:Europe/Berlin
BEGIN:VEVENT
CLASS:PUBLIC
DTSTART;TZID="Europe/Berlin":20180222T210000
DTEND;TZID="Europe/Berlin":20180222T233000
LOCATION:Filmclub "mittendrin"\, Reichenhainer Str. 35/37\, Keller Mittelbau
SUMMARY:Kino: BLADE RUNNER 2049 ("mittendrin" - das campuskino)
DESCRIPTION:Von der Bewusstwerdung der Replikanten: 35 Jahre nach „Blade Runner“ ist Denis Villeneuves „Blade Runner 2049“ ein atemberaubendes Kinoerlebnis und endlich ein Sequel\, das mehr ist als ein Sequel. Und ... Science Fiction hat einen neuen Großmeister!\nfilmclub@tu-chemnitz.de
ORGANIZER:MAILTO:alena.sadowski@s2012.tu-chemnitz.de
UID:19502@www.tu-chemnitz.de
CREATED:20180217T153200Z
DTSTAMP:20210802T190243Z
END:VEVENT
END:VCALENDAR
