BEGIN:VCALENDAR
VERSION:2.0
PRODID:TU Chemnitz
METHOD:PUBLISH
X-WR-CALNAME:Veranstaltungen der TU Chemnitz
X-WR-TIMEZONE:Europe/Berlin
BEGIN:VEVENT
CLASS:PUBLIC
DTSTART;TZID="Europe/Berlin":20180220T210000
DTEND;TZID="Europe/Berlin":20180220T230000
LOCATION:Filmclub "mittendrin"\, Reichenhainer Str. 35/37\, Keller Mittelbau
SUMMARY:Kino: LOVING VINCENT (OmdU) ("mittendrin" - das campuskino)
DESCRIPTION:Animationsfilm (in Öl gemalt!)\, in dem die Gemälde von Vincent van Gogh spektakulär zum Leben erweckt werden. Einzigartig!\nDas ist Kinogeschichte!\nNominiert für den Oscar 2018 als Bester Animationsfilm.\n>> Screening in English original (+ German subs)!\nfilmclub@tu-chemnitz.de
ORGANIZER:MAILTO:alena.sadowski@s2012.tu-chemnitz.de
UID:19497@www.tu-chemnitz.de
CREATED:20180211T134100Z
DTSTAMP:20210802T190245Z
END:VEVENT
END:VCALENDAR
