BEGIN:VCALENDAR
VERSION:2.0
PRODID:TU Chemnitz
METHOD:PUBLISH
X-WR-CALNAME:Veranstaltungen der TU Chemnitz
X-WR-TIMEZONE:Europe/Berlin
BEGIN:VEVENT
CLASS:PUBLIC
DTSTART;TZID="Europe/Berlin":20180215T210000
DTEND;TZID="Europe/Berlin":20180215T230000
LOCATION:Filmclub "mittendrin"\, Reichenhainer Str. 35/37\, Keller Mittelbau
SUMMARY:Kino: LOVING VINCENT ("mittendrin" - das campuskino)
DESCRIPTION:Animationsfilm (in Öl gemalt!)\, in dem die Gemälde von Vincent van Gogh spektakulär zum Leben erweckt werden\, um ein bewegendes Porträt des tragischen Genies zu zeichnen. Das ist Kinogeschichte!\nNominiert für den Oscar 2018 als Bester Animationsfilm.\nfilmclub@tu-chemnitz.de
ORGANIZER:MAILTO:alena.sadowski@s2012.tu-chemnitz.de
UID:19496@www.tu-chemnitz.de
CREATED:20180211T125200Z
DTSTAMP:20210802T190243Z
END:VEVENT
END:VCALENDAR
