BEGIN:VCALENDAR
VERSION:2.0
PRODID:TU Chemnitz
METHOD:PUBLISH
X-WR-CALNAME:Veranstaltungen der TU Chemnitz
X-WR-TIMEZONE:Europe/Berlin
BEGIN:VEVENT
CLASS:PUBLIC
DTSTART;TZID="Europe/Berlin":20180612T090000
DTEND;TZID="Europe/Berlin":20180612T120000
LOCATION:Str. der Nationen 62\, Chemnitz (Böttcher-Bau)
SUMMARY:LiT.Shortcut: Einsatz von Online-Vorträgen in der Lehre - Bereicherung des Unterrichts durch externe Expert_innen (TU Chemnitz\, Lehrpraxis im Transfer plus)
DESCRIPTION:Vorgestellt wird ein Lehrformat\, in dem externe Experten via Videotelefonie vortragen. Diskutiert werden Vorteile von Videotelefonie (Auswirkung auf positive Gruppendynamik\, Gestaltung von Online-Vorträgen als Ergänzung zu studentischen Referaten u.a.).\nJun.-Prof. Dr. Gala Rebane\nvia OPAL; https://www.tu-chemnitz.de/qpl/lit/angebote1.html
ORGANIZER:MAILTO:daniel-matthias.wensler@s2011.tu-chemnitz.de
UID:19465@www.tu-chemnitz.de
CREATED:20180129T132400Z
DTSTAMP:20210802T190656Z
END:VEVENT
END:VCALENDAR
