BEGIN:VCALENDAR
VERSION:2.0
PRODID:TU Chemnitz
METHOD:PUBLISH
X-WR-CALNAME:Veranstaltungen der TU Chemnitz
X-WR-TIMEZONE:Europe/Berlin
BEGIN:VEVENT
CLASS:PUBLIC
DTSTART;TZID="Europe/Berlin":20180130T171500
DTEND;TZID="Europe/Berlin":20180130T184500
LOCATION:Wilhelm-Raabe-Str. 43\, Chemnitz
SUMMARY:Institutskolloquium der Psychologie (Fakultät für Human- und Sozialwissenschaften\, Institut für Psychologie)
DESCRIPTION:Thema: Probleme des Risikos zugänglich repräsentieren für besseres Entscheiden\nDr. Felix G. Rebitschek\nJunior-Prof. Dr. Frank Asbrock\, 31678
ORGANIZER:MAILTO:michael.meinig@psychologie.tu-chemnitz.de
UID:19460@www.tu-chemnitz.de
CREATED:20180126T104800Z
DTSTAMP:20210802T190132Z
END:VEVENT
END:VCALENDAR
