BEGIN:VCALENDAR
VERSION:2.0
PRODID:TU Chemnitz
METHOD:PUBLISH
X-WR-CALNAME:Veranstaltungen der TU Chemnitz
X-WR-TIMEZONE:Europe/Berlin
BEGIN:VEVENT
CLASS:PUBLIC
DTSTART;TZID="Europe/Berlin":20011127T190000
DTEND;TZID="Europe/Berlin":20011127T200000
LOCATION:Thüringer Weg 11\, Raum 205
SUMMARY:Das Verbundprojekt Data Mining Tutor (DaMiT) (Philosophische Fakultät\, Germanistische Sprachwissenschaft)
DESCRIPTION:Im Vortrag werden Data Mining erläutert\, das\nDaMiT-Projekt vorgestellt und die Aufgaben der\nChemnitzer Gruppe erklärt.\nDr. Jens Zeidler\, Fakultät für Informatik (Künstliche Intelligenz)
ORGANIZER:MAILTO:ester@hrz.tu-chemnitz.de
UID:1946@www.tu-chemnitz.de
CREATED:20011126T125400Z
DTSTAMP:20210802T202640Z
END:VEVENT
END:VCALENDAR
