BEGIN:VCALENDAR
VERSION:2.0
PRODID:TU Chemnitz
METHOD:PUBLISH
X-WR-CALNAME:Veranstaltungen der TU Chemnitz
X-WR-TIMEZONE:Europe/Berlin
BEGIN:VEVENT
CLASS:PUBLIC
DTSTART;TZID="Europe/Berlin":20180119T140000
DTEND;TZID="Europe/Berlin":20180119T173000
LOCATION:Reichenhainer Str. 70\, Chemnitz (Rühlmann-Bau)
SUMMARY:n-Städte-Seminar (Fakultät für Mathematik)
DESCRIPTION:Das n-Städte Seminar - n-cities seminar is organized by mathematicians from the Universities of Chemnitz\, Dresden\, Freiberg and Leipzig and is dedicated but not restricted to a variety of fields in analysis.\nS. Mildner (Dresden)\, C. Seifert (Hamburg)\, T. Eisner (Leipzig)\, D. Damanik (Houston)\npeter.stollmann@mathematik.tu-chemnitz.de
ORGANIZER:MAILTO:margit.matt@mathematik.tu-chemnitz.de
UID:19433@www.tu-chemnitz.de
CREATED:20180112T145000Z
DTSTAMP:20210802T190138Z
END:VEVENT
END:VCALENDAR
