BEGIN:VCALENDAR
VERSION:2.0
PRODID:TU Chemnitz
METHOD:PUBLISH
X-WR-CALNAME:Veranstaltungen der TU Chemnitz
X-WR-TIMEZONE:Europe/Berlin
BEGIN:VEVENT
CLASS:PUBLIC
DTSTART;TZID="Europe/Berlin":20180208T093000
DTEND;TZID="Europe/Berlin":20180208T153000
LOCATION:Str. der Nationen 62\, Chemnitz (Böttcher-Bau)
SUMMARY:XLII. Chemiewettbewerb "Julius Adolph Stöckhardt" an der TU Chemnitz (Fakultät für Naturwissenschaften\, Institut für Chemie)
DESCRIPTION:Das Thema des Wettbewerbs lautet "Chemie der Elemente der V. Hauptgruppe \nund ihre Verbindungen".\n\nDas Thema des Fachvortrages Chemie lautet "Chemische Energiekonversion".\nUniv.-Prof. Dr. Marc Armbrüster\nUniv.-Prof. Dr. Klaus Stöwe\, 0371 / 531 - 35214\, klaus.stoewe@chemie.tu-chemnitz.de
ORGANIZER:MAILTO:nadine.thomas@chemie.tu-chemnitz.de
UID:19421@www.tu-chemnitz.de
CREATED:20180109T105800Z
DTSTAMP:20210802T190248Z
END:VEVENT
END:VCALENDAR
