BEGIN:VCALENDAR
VERSION:2.0
PRODID:TU Chemnitz
METHOD:PUBLISH
X-WR-CALNAME:Veranstaltungen der TU Chemnitz
X-WR-TIMEZONE:Europe/Berlin
BEGIN:VEVENT
CLASS:PUBLIC
DTSTART;TZID="Europe/Berlin":20020307T170000
DTEND;TZID="Europe/Berlin":20020307T190000
LOCATION:Reichenhainer Str. 70\, Chemnitz (Rühlmann-Bau)
SUMMARY:Marketingentscheidungen in KMU (DGQ-Regionalkreis Chemnitz)
DESCRIPTION:Erläuterungen zu Marketingentscheidungen in kleinen und mittelständischen Unternehmen (KMU)\, um Kundenwünsche zu erfüllen und auf dem Markt bestehen zu können.\nBesucher dieser kostenlosen Veranstaltung sind herzlich willkommen.\nFrau Prof. C. Zanger\, TU Chemnitz\nDGQ-Obmann Dr. Althaus; Tel.: (0371) 531 2266
ORGANIZER:MAILTO:kalt@hrz.tu-chemnitz.de
UID:1942@www.tu-chemnitz.de
CREATED:20011122T142100Z
DTSTAMP:20210802T202539Z
END:VEVENT
END:VCALENDAR
