BEGIN:VCALENDAR
VERSION:2.0
PRODID:TU Chemnitz
METHOD:PUBLISH
X-WR-CALNAME:Veranstaltungen der TU Chemnitz
X-WR-TIMEZONE:Europe/Berlin
BEGIN:VEVENT
CLASS:PUBLIC
DTSTART;TZID="Europe/Berlin":20011128T140000
DTEND;TZID="Europe/Berlin":20011128T190000
LOCATION:Thüringer Weg 11\, Raum 106
SUMMARY:Hörmann-Rawema Workshop (MTP e.V. GS Chemnitz)
DESCRIPTION:Thema: Einführung eines ERP-Systems im Unternehmen\nHerr Dr. Seiler\n<a href=mailto:kristin.huebler@mtp.org>kristin.huebler@mtp.org</a>
ORGANIZER:MAILTO:krhu@hrz.tu-chemnitz.de
UID:1940@www.tu-chemnitz.de
CREATED:20011120T095100Z
DTSTAMP:20210802T202643Z
END:VEVENT
END:VCALENDAR
