BEGIN:VCALENDAR
VERSION:2.0
PRODID:TU Chemnitz
METHOD:PUBLISH
X-WR-CALNAME:Veranstaltungen der TU Chemnitz
X-WR-TIMEZONE:Europe/Berlin
BEGIN:VEVENT
CLASS:PUBLIC
DTSTART;TZID="Europe/Berlin":20180117T160000
DTEND;TZID="Europe/Berlin":20180117T173000
LOCATION:Reichenhainer Str. 90\, Chemnitz (Zentr. Hörsaal- und Seminargebäude)
SUMMARY:Physikalisches Kolloquium (Fakultät für Naturwissenschaften\, Institut für Physik)
DESCRIPTION:Thema: "Transport of waves in random media: control by disorder and nonlinearity"\nDr. Thomas Wellens (Albert-Ludwigs-Universität Freiburg i. Br.)\nProf. Dr. Ulrich T. Schwarz (Tel: 0371 531 30001\, email: ulrich.schwarz@physik.tu-chemnitz.de)
ORGANIZER:MAILTO:a.kurasch@physik.tu-chemnitz.de
UID:19393@www.tu-chemnitz.de
CREATED:20171220T135000Z
DTSTAMP:20210802T190135Z
END:VEVENT
END:VCALENDAR
