BEGIN:VCALENDAR
VERSION:2.0
PRODID:TU Chemnitz
METHOD:PUBLISH
X-WR-CALNAME:Veranstaltungen der TU Chemnitz
X-WR-TIMEZONE:Europe/Berlin
BEGIN:VEVENT
CLASS:PUBLIC
DTSTART;VALUE=DATE:20180531
DTEND;VALUE=DATE:20180602
LOCATION:Reichenhainer Str. 90\, Chemnitz (Zentr. Hörsaal- und Seminargebäude)
SUMMARY:DVS TAGUNG BEWEGUNG\, DIGITALISIERUNG UND LERNEN IM AUFWACHSEN VON KINDERN UND JUGENDLICHEN (Zentrum für Lehrerbildung\, Juniorprofessur Grundschuldidaktik Sport und Bewegungserziehung)
DESCRIPTION:Die thematischen Schwerpunkte sind Bewegung\, Digitalisierung und Lernen im Aufwachsen von Kindern und Jugendlichen. Es soll u.a. auf die Probleme\, den Nutzen sowie die Chancen der Digitalisierung im sportpädagogischen Setting aufmerksam gemacht werden.\nDr. Victoria Goodyear\, University of Birmingham; Prof. Dr. phil. habil. Klaus Zierer\, Universität Augsburg\nDie Anmeldung zur Konferenz erfolgt über die Tagungshomepage (http://dvs-sportpaedagogik-jahrestagung.de/index.php/anmeldung ). 
ORGANIZER:MAILTO:manuela.gruenzig@s2012.tu-chemnitz.de
UID:19385@www.tu-chemnitz.de
CREATED:20171218T075100Z
DTSTAMP:20210802T190551Z
END:VEVENT
END:VCALENDAR
