BEGIN:VCALENDAR
VERSION:2.0
PRODID:TU Chemnitz
METHOD:PUBLISH
X-WR-CALNAME:Veranstaltungen der TU Chemnitz
X-WR-TIMEZONE:Europe/Berlin
BEGIN:VEVENT
CLASS:PUBLIC
DTSTART;VALUE=DATE:20180226
DTEND;VALUE=DATE:20180302
LOCATION:Reichenhainer Str. 39\, Chemnitz
SUMMARY:MTEX Workshop 2018 (Fakultät für Mathematik\, Angewandte Funktionalanalysis)
DESCRIPTION:Workshop über die Analyse von kristallographischen Texturen sowie von elastischen und plastischen Eigenschaften anhand von EBSD und XRD Daten mit Hilfe von MTEX.\nB. Britton\, R. Hielscher\, R. Kilian\, D. Mainprice\, W. Pantleon\nRalf.Hielscher@mathematik.tu-chemnitz.de
ORGANIZER:MAILTO:ralf.hielscher@mathematik.tu-chemnitz.de
UID:19384@www.tu-chemnitz.de
CREATED:20171215T132800Z
DTSTAMP:20210802T190249Z
END:VEVENT
END:VCALENDAR
