BEGIN:VCALENDAR
VERSION:2.0
PRODID:TU Chemnitz
METHOD:PUBLISH
X-WR-CALNAME:Veranstaltungen der TU Chemnitz
X-WR-TIMEZONE:Europe/Berlin
BEGIN:VEVENT
CLASS:PUBLIC
DTSTART;TZID="Europe/Berlin":20011204T173000
DTEND;TZID="Europe/Berlin":20011204T190000
LOCATION:Hotel Sächsischer Hof\, Brühl 26\, 09111 Chemnitz
SUMMARY:56. Mikroelektronik-Stammtisch: "Haftung von Geschäftsführern" (Versicherungsschutz von KMU) (Fakultät für Elektrotechnik und Informationstechnik\, Schaltungs- und Systementwurf / AMEC e.V.)
DESCRIPTION:Helmut Rubein\, Prokurist\, Gerling Firmen- und Privat-Service GmbH Ost\, Dresden\nProf. Dr. D. Müller\, 0371/ 531-3192\, d.mueller@infotech.tu-chemnitz.de
ORGANIZER:MAILTO:pejan@hrz.tu-chemnitz.de
UID:1938@www.tu-chemnitz.de
CREATED:20011119T134600Z
DTSTAMP:20210802T202628Z
END:VEVENT
END:VCALENDAR
