BEGIN:VCALENDAR
VERSION:2.0
PRODID:TU Chemnitz
METHOD:PUBLISH
X-WR-CALNAME:Veranstaltungen der TU Chemnitz
X-WR-TIMEZONE:Europe/Berlin
BEGIN:VEVENT
CLASS:PUBLIC
DTSTART;TZID="Europe/Berlin":20180123T173000
DTEND;TZID="Europe/Berlin":20180123T190000
LOCATION:Thüringer Weg 7\, K012
SUMMARY:Prof. Dr. Christian Proaño referiert im Wirtschaftswissenschaftlichen Forschungsseminar.  (Fakultät für Wirtschaftswissenschaften\, VWL IV)
DESCRIPTION:Prof. Dr. Christian Proaño  referiert über "Characterizing the Financial Cycle: Evidence from a Frequency-Domain Analysis". Vortragsreihe im Wirtschaftswissenschaftlichen Forschungsseminar\nProf. Dr. Christian Proaño \nDie Teilnahme ist für alle Interessierten kostenlos.
ORGANIZER:MAILTO:julia.tandetzki@s2016.tu-chemnitz.de
UID:19376@www.tu-chemnitz.de
CREATED:20171212T131200Z
DTSTAMP:20210802T190128Z
END:VEVENT
END:VCALENDAR
