BEGIN:VCALENDAR
VERSION:2.0
PRODID:TU Chemnitz
METHOD:PUBLISH
X-WR-CALNAME:Veranstaltungen der TU Chemnitz
X-WR-TIMEZONE:Europe/Berlin
BEGIN:VEVENT
CLASS:PUBLIC
DTSTART;TZID="Europe/Berlin":20171210T103000
DTEND;TZID="Europe/Berlin":20171210T113000
LOCATION:Reichenhainer Str. 90\, Chemnitz (Zentr. Hörsaal- und Seminargebäude)
SUMMARY:Kinder-Uni: Verstehste die Geste? (Zentrum für Wissens- und Technologietransfer\, Kinder-Uni Chemnitz)
DESCRIPTION:Wer mehr über die Sprache der Hände erfahren möchte\, ist ganz herzlich zur Kinder-Uni eingeladen.\nProf. Dr. Ellen Fricke\nKinder-Uni Chemnitz\, Brita Stingl\, 0371 531-36036\, kinderuni@tu-chemnitz.de
ORGANIZER:MAILTO:brita.stingl@verwaltung.tu-chemnitz.de
UID:19357@www.tu-chemnitz.de
CREATED:20171205T153300Z
DTSTAMP:20210802T185941Z
END:VEVENT
END:VCALENDAR
