BEGIN:VCALENDAR
VERSION:2.0
PRODID:TU Chemnitz
METHOD:PUBLISH
X-WR-CALNAME:Veranstaltungen der TU Chemnitz
X-WR-TIMEZONE:Europe/Berlin
BEGIN:VEVENT
CLASS:PUBLIC
DTSTART;VALUE=DATE:20171204
DTEND;VALUE=DATE:20171205
LOCATION:Reichenhainer Str. 70\, Chemnitz (Neues Physikgebäude)
SUMMARY:Workshop Rastersondenmikroskopie (Fakultät für Naturwissenschaften\, Professur Chemische Physik)
DESCRIPTION:Multifrequency AFM\, Kohlenstoffnanoröhrchen\, DNA Origami\, Graphen und Graphenoxid\, AFM kombiniert mit optischer Mikroskopie und Ramanspektroskopie\, MUSIC-mode AFM\, Video-Rate AFM\nProf. Dr. Robert Magerle\, +49-371-531-21750\, robert.magerle@physik.tu-chemnitz.de
ORGANIZER:MAILTO:robert.magerle@physik.tu-chemnitz.de
UID:19329@www.tu-chemnitz.de
CREATED:20171128T114800Z
DTSTAMP:20210802T185939Z
END:VEVENT
END:VCALENDAR
