BEGIN:VCALENDAR
VERSION:2.0
PRODID:TU Chemnitz
METHOD:PUBLISH
X-WR-CALNAME:Veranstaltungen der TU Chemnitz
X-WR-TIMEZONE:Europe/Berlin
BEGIN:VEVENT
CLASS:PUBLIC
DTSTART;TZID="Europe/Berlin":20171206T183000
DTEND;TZID="Europe/Berlin":20171206T200000
LOCATION:Reichenhainer Str. 70\, Chemnitz (Weinhold-Bau)
SUMMARY:Sprachdiagnostik DaF-DaZ: Gemeinsamkeiten und Unterschiede (Philosophische Fakultät\, Deutsch als Fremd- und Zweitsprache)
DESCRIPTION:Sprachdiagnostik und Sprachförderung sind wesentliche Praktiken im DaZ-Unterricht. Ein entsprechend hantierbares Werkzeug hat Prof. Grießhaber für den DaZ-Unterricht entwickelt und wird dieses im Vortrag präsentieren und diskutieren.\nProf. Dr. Wilhelm Grießhaber\nuta.grossmann@phil.tu-chemnitz.de
ORGANIZER:MAILTO:uta.grossmann@phil.tu-chemnitz.de
UID:19325@www.tu-chemnitz.de
CREATED:20171128T094500Z
DTSTAMP:20210802T185942Z
END:VEVENT
END:VCALENDAR
