BEGIN:VCALENDAR
VERSION:2.0
PRODID:TU Chemnitz
METHOD:PUBLISH
X-WR-CALNAME:Veranstaltungen der TU Chemnitz
X-WR-TIMEZONE:Europe/Berlin
BEGIN:VEVENT
CLASS:PUBLIC
DTSTART;TZID="Europe/Berlin":20180124T180000
DTEND;TZID="Europe/Berlin":20180124T200000
LOCATION:
SUMMARY:Paris\, Paris! Wieso Jacques Lipchitz und all' die anderen Künstler_inen an die Seine kamen. (Philosophische Fakultät\, Romanische Kulturwissenschaft)
DESCRIPTION:Begleitender Vortrag zur Ausstellung "Jacques Lipchitz\nBildhauer des 20. Jahrhunderts" vom 29. Oktober 2017 bis zum 28. Januar 2018 in den Kunstsammlungen Chemnitz.\nProf. Ulrike Brummert\, docteur d´Etat\nManja Berte\, manja.berte@phil.tu-chemnitz.de\, 531-39272
ORGANIZER:MAILTO:manja.berte@phil.tu-chemnitz.de
UID:19319@www.tu-chemnitz.de
CREATED:20171123T122000Z
DTSTAMP:20210802T190127Z
END:VEVENT
END:VCALENDAR
