BEGIN:VCALENDAR
VERSION:2.0
PRODID:TU Chemnitz
METHOD:PUBLISH
X-WR-CALNAME:Veranstaltungen der TU Chemnitz
X-WR-TIMEZONE:Europe/Berlin
BEGIN:VEVENT
CLASS:PUBLIC
DTSTART;TZID="Europe/Berlin":20171205T171500
DTEND;TZID="Europe/Berlin":20171205T190000
LOCATION:Reichenhainer Str. 90\, Chemnitz (Zentr. Hörsaal- und Seminargebäude)
SUMMARY:Was machen eigentlich Ideenhistoriker? Studentische Perspektiven (Philosophische Fakultät\, Politische Theorie und Ideengeschichte)
DESCRIPTION:Studierende präsentieren ihre Forschungsergebnisse im Rahmen des Seminars "Forschungswerkstatt: Methoden und Konzepte der Ideengeschichte/Intellectual History"\nEine Anmeldung ist nicht erforderlich. Kontakt: ellen.thuemmler@phil.tu-chemnitz.de
ORGANIZER:MAILTO:ellen.thuemmler@phil.tu-chemnitz.de
UID:19312@www.tu-chemnitz.de
CREATED:20171121T155200Z
DTSTAMP:20210802T185945Z
END:VEVENT
END:VCALENDAR
