BEGIN:VCALENDAR
VERSION:2.0
PRODID:TU Chemnitz
METHOD:PUBLISH
X-WR-CALNAME:Veranstaltungen der TU Chemnitz
X-WR-TIMEZONE:Europe/Berlin
BEGIN:VEVENT
CLASS:PUBLIC
DTSTART;TZID="Europe/Berlin":20171206T171500
DTEND;TZID="Europe/Berlin":20171206T184500
LOCATION:Reichenhainer Str. 90\, Chemnitz (Zentr. Hörsaal- und Seminargebäude)
SUMMARY:Die Europäische Währungsunion - Bilanz und Perspektiven (Philosophische Fakultät\, Professur Europäische Regierungssysteme im Vergleich)
DESCRIPTION:Es werden die Vor- und Nachteile einer gemeinsamen Währung erläutert und ein\nÜberblick zu den Kriterien eines optimalen Währungsraums gegeben. Zudem beschäftigt sich der Vortrag von Herrn Altmann mit der Finanz- und Staatsschuldenkrise.\nMarkus Altmann\, Deutsche Bundesbank\nGabriele Wagner\, +49 371 531-27770\, professur-er@phil.tu-chemnitz.de
ORGANIZER:MAILTO:patrick.thost@s2014.tu-chemnitz.de
UID:19309@www.tu-chemnitz.de
CREATED:20171120T142000Z
DTSTAMP:20210802T185941Z
END:VEVENT
END:VCALENDAR
