BEGIN:VCALENDAR
VERSION:2.0
PRODID:TU Chemnitz
METHOD:PUBLISH
X-WR-CALNAME:Veranstaltungen der TU Chemnitz
X-WR-TIMEZONE:Europe/Berlin
BEGIN:VEVENT
CLASS:PUBLIC
DTSTART;TZID="Europe/Berlin":20171212T130000
DTEND;TZID="Europe/Berlin":20171212T163000
LOCATION:Str. der Nationen 62\, Chemnitz (Böttcher-Bau)
SUMMARY:Kollegiale Praxisberatung (TU Chemnitz\, Lehrpraxis im Transfer plus)
DESCRIPTION:Die Kollegiale Praxisberatung (Bezug Modul 1) bringt die Gelegenheit\, vom Austausch mit Kolleginnen/ Kollegen für Ihre Lehre zu profitieren. Mit der Methode Gruppen-Praxisberatung werden alltägliche Lehr-Situationen vertieft betrachtet und besprochen.\nInfo: lit@tu-chemnitz.de; Anmeldung bis 28.11.17 via OPAL
ORGANIZER:MAILTO:daniel-matthias.wensler@s2011.tu-chemnitz.de
UID:19297@www.tu-chemnitz.de
CREATED:20171115T214000Z
DTSTAMP:20210802T185939Z
END:VEVENT
END:VCALENDAR
