BEGIN:VCALENDAR
VERSION:2.0
PRODID:TU Chemnitz
METHOD:PUBLISH
X-WR-CALNAME:Veranstaltungen der TU Chemnitz
X-WR-TIMEZONE:Europe/Berlin
BEGIN:VEVENT
CLASS:PUBLIC
DTSTART;TZID="Europe/Berlin":20171121T173000
DTEND;TZID="Europe/Berlin":20171121T190000
LOCATION:Thüringer Weg 7\, K012
SUMMARY:Dr. Carsten Colombier referiert im Wirtschaftswissenschaftlichen Forschungsseminar. (Fakultät für Wirtschaftswissenschaften\, VWL IV)
DESCRIPTION:Dr. Carsten Colombier referiert über "Die Baumolsche Kostenkrankheit: unerwünschte Nebenwirkungen für die Schuldenbremsenregel". Vortragsreihe im Wirtschaftswissenschaftlichen Forschungsseminar.\nDr. Carsten Colombier\nDie Teilnahme ist für alle Interessierten kostenlos.
ORGANIZER:MAILTO:julia.tandetzki@s2016.tu-chemnitz.de
UID:19287@www.tu-chemnitz.de
CREATED:20171114T112100Z
DTSTAMP:20210802T185758Z
END:VEVENT
END:VCALENDAR
