BEGIN:VCALENDAR
VERSION:2.0
PRODID:TU Chemnitz
METHOD:PUBLISH
X-WR-CALNAME:Veranstaltungen der TU Chemnitz
X-WR-TIMEZONE:Europe/Berlin
BEGIN:VEVENT
CLASS:PUBLIC
DTSTART;TZID="Europe/Berlin":20011124T120000
DTEND;TZID="Europe/Berlin":20011124T140000
LOCATION:Str. der Nationen 62\, Chemnitz (Böttcher-Bau)
SUMMARY:Arbeitskreis "Studium generale Sachsen" an der TU Chemnitz (TU Chemnitz)
DESCRIPTION:Studium generale im Spannungsfeld mit anderen Angeboten der Hochschule. Zusammenarbeit über Ländergrenzen?\nProf. Dr. Heinz Rosin\, Tel.5 31-73 29
ORGANIZER:MAILTO:iroe@hrz.tu-chemnitz.de
UID:1928@www.tu-chemnitz.de
CREATED:20011112T163500Z
DTSTAMP:20210802T202642Z
END:VEVENT
END:VCALENDAR
